BEGIN:VCALENDAR
VERSION:2.0
PRODID:Events Booking
BEGIN:VEVENT
UID:69e8fa38d84b1
SUMMARY:Boston Museum of Science
DESCRIPTION:Please join us for a trip to the Museum of Science Boston! Tick
 ets will gain you entrance into the museum. We will be entering as a group
 \, then you will carry on self-guided. We also have discounted tickets to 
 the 12:30 planetarium show \"Moons: Worlds of Mystery\" Moons: Worlds of 
 Mystery | Museum of Science (mos.org). The Planetarium show is optional.
LOCATION:Science Park\, Boston\, 02214 Massachusetts\, United States
DTSTART:20241030T134500Z
DTEND:20241030T210000Z
DTSTAMP:20240923T033419Z
ORGANIZER;CN=WHE Administrator:MAILTO:Admin@wearehomeeducators.com
GEO:42.367431;-71.071098
X-APPLE-STRUCTURED-LOCATION;VALUE=URI;X-ADDRESS=Science Park\, Boston\, 022
 14 Massachusetts\, United States;X-APPLE-RADIUS=72;X-TITLE=Boston Museum o
 f Science:42.367431;-71.071098
END:VEVENT
END:VCALENDAR